BEGIN:VCALENDAR
VERSION:2.0
PRODID:-//RykÍS - ECPv6.15.16//NONSGML v1.0//EN
CALSCALE:GREGORIAN
METHOD:PUBLISH
X-WR-CALNAME:RykÍS
X-ORIGINAL-URL:https://ice-dust.com
X-WR-CALDESC:Events for RykÍS
REFRESH-INTERVAL;VALUE=DURATION:PT1H
X-Robots-Tag:noindex
X-PUBLISHED-TTL:PT1H
BEGIN:VTIMEZONE
TZID:Atlantic/Reykjavik
BEGIN:STANDARD
TZOFFSETFROM:+0000
TZOFFSETTO:+0000
TZNAME:GMT
DTSTART:20240101T000000
END:STANDARD
END:VTIMEZONE
BEGIN:VEVENT
DTSTART;TZID=Atlantic/Reykjavik:20250212T000000
DTEND;TZID=Atlantic/Reykjavik:20250213T235959
DTSTAMP:20260421T181857
CREATED:20260107T235520Z
LAST-MODIFIED:20260108T111302Z
UID:5574-1739318400-1739491199@ice-dust.com
SUMMARY:9th High Latitude Workshop 2025
DESCRIPTION:In-situ mælingar\, fjarkönnun\, líkanagerð\, langtímaflutningur og áhrif HLD og ryks frá lágum breiddargráðum á heimskautasvæðinu\, með áherslu á CAMS á Íslandi.NÝTT á árinu 2025: Ryklistarsýning.Kynntu þér nýstárlega blöndu vísinda og listar\, þar sem verk unnin úr náttúrulegum rykeindum eru til sýnis. \n\n\n\nYfirlit viðburðar\n\n\n\nHLD-ráðstefnan verður haldin í Reykjavík dagana 12.-13. febrúar 2025 og fer fram í blandaðri mynd\, með bæði staðbundnum og rafrænum fyrirlestrum. Á þessari þverfaglegu ráðstefnu verða kynntar niðurstöður úr: \n\n\n\n\nMælingum á hábreiddarykri (HLD)\,\n\n\n\nFerlum sem leiða til rykuppsveiflu\,\n\n\n\nKortlagningu og greiningu á uppsprettum HLD\,\n\n\n\nLangtímaflutningi HLD og Sahara-ryks til heimskautasvæðisins\,\n\n\n\nÁhrifum óhreininda á jökulkerfið\, og\n\n\n\nHlutverki agna á heimskautasvæðum.\n\n\n\n\nÁrið 2025 verður áhersla lögð á in-situ mælingar\, fjarkönnun\, líkanagerð\, langtímaflutning og loftslagsáhrif HLD og ryks frá lágum breiddargráðum. Sérstök CAMS notendaumræða verður haldin með sérfræðingum frá ECMWF og WMO SDS WAS\, þar sem vettvangur verður opnaður fyrir umræður um vöktun og líkanagerð agna. \n\n\n\nSkráningLykilviðfangsefniFyrirlesararStaðsetningZoom HlekkurSkipulagsnefnd\n\nSkráningu er lokað. Vinsamlegast gefðu upp þátttökustillingar og upplýsingar um kynningu þína\, ef við á.Skylda er að skrá sig fyrir staðbundna þátttöku. \n\n\n\n\nSkráningarfrestur fyrir staðbundna þátttöku: 3. febrúar 2025.\n\n\n\nFrestur til að skila inn titlum: 3. febrúar 2025\, með upplýsingum um hvort um er að ræða munnlegan eða veggspjaldafyrirlestur og þátttöku á netinu eða staðnum..\n\n\n\n\n\nHLD 2025 Skráning\n\n\n\n\nMeð því að veita nafn þitt og netfang gefur þú leyfi fyrir því að IceDust safni og noti þessar upplýsingar í þeim tilgangi að stjórna skráningu þinni og þátttöku í HLD 2025 ráðstefnunni. Upplýsingar þínar verða einungis notaðar fyrir samskipti tengd viðburðinum og verða ekki deilt með þriðja aðila. Þú getur óskað eftir því að upplýsingum þínum verði eytt með því að hafa samband við okkur.. \n\n\n\n\n\n\nÁhrif og öfgar í HLD\n\n\n\nUppsprettur HLD\n\n\n\nLíkanagerð og spár um HLD\n\n\n\nFjarkönnun á HLD\n\n\n\nHLD og loftslagsbreytingar\n\n\n\nMikilvægi HLD fyrir samfélag og notendur\n\n\n\nHeimskautagnir og loftmengun (t.d. svart kolefni\, flugeldamengun\, örplast)\n\n\n\nCAMS og þarfir notenda á Íslandi\n\n\n\nRyk og agnir í listum\n\n\n\n\n\n\nStaðfestir fyrirlesarar og listamenn:\n\n\n\n\nEmilia Telese (Listaháskóli Íslands og Íslensk Grafík): Margmiðlunarlistamaður sem vinnur með jarðveg og mold til að skapa nýstárleg verk í prentlist og sviðslistum..\n\n\n\nChristian Juncher Jørgensen (Aarhus University\, Denmark)\n\n\n\nSamuel Remy (HYGEOS\, France)\n\n\n\n\n\n\nRáðstefnan verður haldin á: Landbúnaðarháskóli Íslands\, KeldnaholtÁrleynir\, 112 Reykjavík\, Iceland+ Google Maphttps://www.lbhi.is/Sjá kort hér að neðan fyrir leiðarlýsingu. \n\n\n			\n				\n			\n			\n\n\n\n\nZoom hlekkir fyrir netþátttöku verða sendir skráðum þátttakendum daginn fyrir viðburðinn. Gakktu úr skugga um að netfang þitt sé rétt í skráningu. \n\n\n\nDagur 1: 12. febrúar 2025Hlekkur verður virkur 12. febrúar 2025 Join Meeting\n\n\n\nDagur 2: 13. febrúar 2025Hlekkur verður virkur 13. febrúar 2025 Join Meeting\n\n\n\n\n\n\n\nVið hlökkum til að taka á móti þér!\n\n\n\nFyrir frekari spurningar\, vinsamlega hafið samband: \n\n\n\n\nPavla Dagsson-Waldhauserova (AUI\, IceDust\, contact: firstname@lbhi.is)\n\n\n\nOuti Meinander (FMI\, contact: firstname.lastname@fmi.fi)\,\n\n\n\n\n\n\n\n\n\n\n\n\n\n\nGrunnupplýsingar:Dagsetning: February 12-13\, 2025Tími: 9:00 – 17:00 (GMT)Tungumál: ENViðburður í blandaðri mynd \n\n\n\n\nJoin meeting online\n\n\n\n\nVefsíða:Lestu meira\n\n\n\nSkipuleggjandi:\n\n\n\n\n\n\n\n\n\n\nFlokkar:\n\n\nValdir viðburðir\, Vísindafundir\n\n\n\n\nVerð::
URL:https://ice-dust.com/is/vidburdur/vidburdur-hld-2025/
LOCATION:Landbúnaðarháskóli Íslands\, Keldnaholt\, Árleynir 22\, Reykjavík\, 112\, Iceland
CATEGORIES:Valdir viðburðir,Vísindafundir
ATTACH;FMTTYPE=image/png:https://ice-dust.com/wp-content/uploads/2026/01/HLD2026_banner.png
END:VEVENT
END:VCALENDAR