BEGIN:VCALENDAR
VERSION:2.0
PRODID:-//RykÍS - ECPv6.15.16//NONSGML v1.0//EN
CALSCALE:GREGORIAN
METHOD:PUBLISH
X-ORIGINAL-URL:https://ice-dust.com
X-WR-CALDESC:Events for RykÍS
REFRESH-INTERVAL;VALUE=DURATION:PT1H
X-Robots-Tag:noindex
X-PUBLISHED-TTL:PT1H
BEGIN:VTIMEZONE
TZID:Atlantic/Reykjavik
BEGIN:STANDARD
TZOFFSETFROM:+0000
TZOFFSETTO:+0000
TZNAME:GMT
DTSTART:20230101T000000
END:STANDARD
END:VTIMEZONE
BEGIN:VEVENT
DTSTART;TZID=Atlantic/Reykjavik:20241004T090000
DTEND;TZID=Atlantic/Reykjavik:20241004T160000
DTSTAMP:20260421T193250
CREATED:20240909T112303Z
LAST-MODIFIED:20240925T134217Z
UID:4978-1728032400-1728057600@ice-dust.com
SUMMARY:Copernicus atmosphere verkefni 2024
DESCRIPTION:Vinnustofa Copernicus Atmosphere Monitoring Service (CAMS) mun fjalla um loftslagsfyrirbæri eins og rykstorma\, loftgæðagreiningar og loftslagsvöktun. Á þessari verklegu vinnustofu verður lögð áhersla á notkun CAMS gagna og verkfæra til að meta loftgæði og fylgjast með breytingum í andrúmslofti sem tengjast Íslandi.Þátttakendur fá tækifæri til að fá hagnýta reynslu í að nota loftvöktunartól og greina raunveruleg gögn með Jupyter forritum.Markhópur: Vinnustofan er ætluð framhaldsnema\, en grunnnemar\, vísindamenn\, kennarar og jafnvel opinberir stjórnendur eða fyrirtæki eru einnig hjartanlega velkomin. Þetta er frábært tækifæri til að læra meira um loftgæðavöktun og loftslagsfyrirbæri með sérfræðingum frá CAMS og öðrum alþjóðlegum stofnunum.Forkröfur: Grunnþekking á loftvísindum eða gervihnattagögnum er æskileg\, en ekki nauðsynleg. Þátttakendur þurfa að hafa með sér eigin fartölvur. \n\n\n\nDagskráSkráningStreymiStaðurGagnaúrræði\n\nDagskrá:nánari upplýsingar koma fljótlega \n\n\n\n\n\n\n\n\n\nSkráðu þig á vefnámskeiðið:Staðbundnir þátttakendur þurfa að hafa með sér eigin fartölvur!Vinnustofan er í bæði staðar- og fjarformi (hybrid). \n\n\n\n\nOpen registration form\n\n\n\n\n\n\nStreymi:\n\n\n\n\nTaktu þátt í Teams\n\n\n\n\n\n\n\n\nEvent Venue:Herbergi L102\, Lögberg\, Háskóli ÍslandsSæmundargata 8\, 102 Reykjavík\, Iceland+ Google Maphttps://www.hi.is/haskolinn/logberg \n\n\n\n\n\n\n\nVinnustofan inniheldur verklegar æfingar með Jupyter forritum\, sem verða aðgengileg á https://github.com/lmi/copernicus. \n\n\n\n\n\n\n\nDagssetning og tími:Dagssetning: Octóber 4\, 2024Tími: 9:00 – 16:00 (GMT)Staður: Lögberg L102\, Háskóli ÍslandsTungumál: EN/IS \n\n\n\nVefsíða:Copernicus á Íslandi  \n\n\n\n\nFacebook\n\n\n\n\n\n\n\n\n\nSkipuleggjendur:\n\n\n\n\n\n\n\n\n\n\n\nViðburðaflokkur:\n\n\nMenntun\, Vinnustofur\n\n\n\n\nVerð:
URL:https://ice-dust.com/is/vidburdur/copernicus-atmosphere-verkefni-2024/
LOCATION:Háskóli Íslands\, Lögberg L102\, Sæmundargata 8\, Reykjavík\, 102\, Iceland
CATEGORIES:Menntun,Vinnustofur
ATTACH;FMTTYPE=image/jpeg:https://ice-dust.com/wp-content/uploads/2024/09/CAMSworkshop_banner.jpg
END:VEVENT
BEGIN:VEVENT
DTSTART;TZID=Atlantic/Reykjavik:20241003T090000
DTEND;TZID=Atlantic/Reykjavik:20241003T160000
DTSTAMP:20260421T193250
CREATED:20240911T225517Z
LAST-MODIFIED:20240925T134215Z
UID:5040-1727946000-1727971200@ice-dust.com
SUMMARY:Copernicus marine verkefni 2024
DESCRIPTION:The Copernicus Marine Service Workshop will introduce participants to marine data and tools to monitor Iceland’s ocean and coastal ecosystems. This hands-on session will cover marine heatwave tracking\, sea ice monitoring\, and other applications using the Copernicus Marine Services.Participants will explore marine datasets using interactive tools and Jupyter notebooks tailored to marine applications.Prerequisites: Basic knowledge of marine science or satellite data is recommended but not mandatory. Participants should bring their own laptops. \n\n\n\nDagskráSkráningStreymiStaðurGagnaúrræði\n\nDagskrá:nánari upplýsingar koma fljótlega \n\n\n\n\n\n\n\n\n\nSkráðu þig á vefnámskeiðið:Staðbundnir þátttakendur þurfa að hafa með sér eigin fartölvur!Vinnustofan er í bæði staðar- og fjarformi (hybrid). \n\n\n\n\nOpen registration form\n\n\n\n\n\n\nStreymi:\n\n\n\n\nTaktu þátt í Teams\n\n\n\n\n\n\n\n\nVenue:Háskóli Íslands\, Veröld – hús Vigdísar VHV-008Brynjólfsgata 1\, 102 Reykjavík\, Iceland+ Google Maphttps://www.hi.is/verold_hus_vigdisar \n\n\n\n\n\n\n\nVinnustofan inniheldur verklegar æfingar með Jupyter forritum\, sem verða aðgengileg á https://github.com/lmi/copernicus. \n\n\n\n\n\n\n\nDagssetning og tími::Dagssetning: Október 3\, 2024Tími: 9:00 AM – 5:00 PM (GMT)Staður: Veröld – hús Vigdísar\, herbergi VHV-008\, Háskóli ÍslandsTungumál: EN/IS \n\n\n\nVefsíða:Copernicus á Íslandi\n\n\n\n\nFacebook\n\n\n\n\n\n\n\n\n\nSkipuleggjendur:\n\n\n\n\n\n\n\n\n\n\n\nViðburðaflokkur:\n\n\nMenntun\, Vinnustofur\n\n\n\n\nVerð:
URL:https://ice-dust.com/is/vidburdur/copernicus-marine-verkefni-2024/
LOCATION:Háskóli Íslands\, Veröld – hús Vigdísar VHV-008\, Brynjólfsgata 1\, Reykjavík\, 107\, Iceland
CATEGORIES:Menntun,Vinnustofur
ATTACH;FMTTYPE=image/jpeg:https://ice-dust.com/wp-content/uploads/2024/09/CopernicusMarineBanner.jpg
END:VEVENT
BEGIN:VEVENT
DTSTART;TZID=Atlantic/Reykjavik:20241001T090000
DTEND;TZID=Atlantic/Reykjavik:20241001T160000
DTSTAMP:20260421T193250
CREATED:20240911T224543Z
LAST-MODIFIED:20240925T134111Z
UID:5043-1727773200-1727798400@ice-dust.com
SUMMARY:Copernicus land verkefni 2024
DESCRIPTION:The Copernicus Land Service Workshop will focus on monitoring land changes in Iceland using advanced satellite data. This session will provide participants with hands-on exercises on analyzing land use\, ground motion\, soil erosion\, and glacier dynamics using the Copernicus Land Monitoring Services and Sentinel data.Participants will get the chance to work on real-world examples using Jupyter notebooks\, which will be provided during the workshop.Prerequisites: Basic knowledge of satellite data is recommended but not mandatory. Participants should bring their own laptops. \n\n\n\nDagskráSkráningStreymiStaðurGagnaúrræði\n\nDagskrá:nánari upplýsingar koma fljótlega \n\n\n\n\n\n\n\n\n\nSkráðu þig á vefnámskeiðið:Staðbundnir þátttakendur þurfa að hafa með sér eigin fartölvur!Vinnustofan er í bæði staðar- og fjarformi (hybrid). \n\n\n\n\nOpen registration form\n\n\n\n\n\n\nStreymi:\n\n\n\n\nJoin Webinar\n\n\n\n\n\n\n\n\nStaður:Háskóli Íslands\, Árnagarður ÁG-101Sturlagata 1\, 102 Reykjavík\, Iceland+ Google Maphttps://www.hi.is/arnagardurRemove venue \n\n\n\n\n\n\n\nVinnustofan inniheldur verklegar æfingar með Jupyter forritum\, sem verða aðgengileg á https://github.com/lmi/copernicus. \n\n\n\n\n\n\n\nDagssetning og tími:Dagssetning: Október 1\, 2024Tími: 9:00 – 16:00 (GMT)Staður: Árnagarður\, Room ÁG-101\, University of IcelandTungumál: EN/IS \n\n\n\nVefsíða:Copernicus á Íslandi\n\n\n\n\nFacebook\n\n\n\n\n\n\n\n\n\nSkipuleggjendur:\n\n\n\n\n\n\n\n\n\n\n\nViðburðaflokkur:\n\n\nMenntun\, Vinnustofur\n\n\n\n\nVerð:
URL:https://ice-dust.com/is/vidburdur/copernicus-land-verkefni-2024/
LOCATION:Háskóli Íslands\, Árnagarður ÁG-101\, Sturlagata 1\, Reykjavík\, 102\, Iceland
CATEGORIES:Menntun,Vinnustofur
ATTACH;FMTTYPE=image/jpeg:https://ice-dust.com/wp-content/uploads/2024/09/CopernicusLandBanner2024.jpg
END:VEVENT
END:VCALENDAR